BEGIN:VCALENDAR
VERSION:2.0
PRODID:-//Ooltewah High School - ECPv6.15.20//NONSGML v1.0//EN
CALSCALE:GREGORIAN
METHOD:PUBLISH
X-WR-CALNAME:Ooltewah High School
X-ORIGINAL-URL:https://ohs.staging.hcde.org
X-WR-CALDESC:Events for Ooltewah High School
REFRESH-INTERVAL;VALUE=DURATION:PT1H
X-Robots-Tag:noindex
X-PUBLISHED-TTL:PT1H
BEGIN:VTIMEZONE
TZID:America/New_York
BEGIN:DAYLIGHT
TZOFFSETFROM:-0500
TZOFFSETTO:-0400
TZNAME:EDT
DTSTART:20240310T070000
END:DAYLIGHT
BEGIN:STANDARD
TZOFFSETFROM:-0400
TZOFFSETTO:-0500
TZNAME:EST
DTSTART:20241103T060000
END:STANDARD
BEGIN:DAYLIGHT
TZOFFSETFROM:-0500
TZOFFSETTO:-0400
TZNAME:EDT
DTSTART:20250309T070000
END:DAYLIGHT
BEGIN:STANDARD
TZOFFSETFROM:-0400
TZOFFSETTO:-0500
TZNAME:EST
DTSTART:20251102T060000
END:STANDARD
BEGIN:DAYLIGHT
TZOFFSETFROM:-0500
TZOFFSETTO:-0400
TZNAME:EDT
DTSTART:20260308T070000
END:DAYLIGHT
BEGIN:STANDARD
TZOFFSETFROM:-0400
TZOFFSETTO:-0500
TZNAME:EST
DTSTART:20261101T060000
END:STANDARD
BEGIN:DAYLIGHT
TZOFFSETFROM:-0500
TZOFFSETTO:-0400
TZNAME:EDT
DTSTART:20270314T070000
END:DAYLIGHT
BEGIN:STANDARD
TZOFFSETFROM:-0400
TZOFFSETTO:-0500
TZNAME:EST
DTSTART:20271107T060000
END:STANDARD
END:VTIMEZONE
BEGIN:VEVENT
DTSTART;VALUE=DATE:20251201
DTEND;VALUE=DATE:20251202
DTSTAMP:20260419T135151
CREATED:20251006T153646Z
LAST-MODIFIED:20251006T153646Z
UID:10000060-1764547200-1764633599@ohs.staging.hcde.org
SUMMARY:Professional Development Day
DESCRIPTION:No students. Enjoy your day off.
URL:https://ohs.staging.hcde.org/event/professional-development-day/
CATEGORIES:Schools
END:VEVENT
BEGIN:VEVENT
DTSTART;TZID=America/New_York:20251203T090000
DTEND;TZID=America/New_York:20251203T100000
DTSTAMP:20260419T135151
CREATED:20251006T150856Z
LAST-MODIFIED:20251006T151057Z
UID:10000055-1764752400-1764756000@ohs.staging.hcde.org
SUMMARY:TN Promise Meeting
DESCRIPTION:Location: Cafeteria \nTime: 9:00am-10:00am
URL:https://ohs.staging.hcde.org/event/professional-development-2/
END:VEVENT
BEGIN:VEVENT
DTSTART;VALUE=DATE:20251209
DTEND;VALUE=DATE:20251210
DTSTAMP:20260419T135151
CREATED:20251006T153729Z
LAST-MODIFIED:20251209T144816Z
UID:10000061-1765238400-1765324799@ohs.staging.hcde.org
SUMMARY:Choir Concert
DESCRIPTION:Location & Time : Ooltewah United Methodist Church 6:30pm
URL:https://ohs.staging.hcde.org/event/choir-concert-2/
END:VEVENT
BEGIN:VEVENT
DTSTART;TZID=America/New_York:20251216T190000
DTEND;TZID=America/New_York:20251216T210000
DTSTAMP:20260419T135151
CREATED:20251006T151346Z
LAST-MODIFIED:20251006T151346Z
UID:10000057-1765911600-1765918800@ohs.staging.hcde.org
SUMMARY:Carols by Candlelight-Band
DESCRIPTION:Location: Collegedale Commons \n7:00pm-9:00pm
URL:https://ohs.staging.hcde.org/event/carols-by-candlelight-band/
CATEGORIES:Schools
END:VEVENT
BEGIN:VEVENT
DTSTART;TZID=America/New_York:20251219T071500
DTEND;TZID=America/New_York:20251219T104500
DTSTAMP:20260419T135151
CREATED:20251006T151619Z
LAST-MODIFIED:20251006T151638Z
UID:10000058-1766128500-1766141100@ohs.staging.hcde.org
SUMMARY:Student 1/2 day 10:45 Dismissal
DESCRIPTION:
URL:https://ohs.staging.hcde.org/event/student-1-2-day-1045-dismissal/
CATEGORIES:Schools
END:VEVENT
BEGIN:VEVENT
DTSTART;VALUE=DATE:20251224
DTEND;VALUE=DATE:20251226
DTSTAMP:20260419T135151
CREATED:20250701T171835Z
LAST-MODIFIED:20250701T171835Z
UID:10000005-1766534400-1766707199@ohs.staging.hcde.org
SUMMARY:Christmas Eve
DESCRIPTION:
URL:https://ohs.staging.hcde.org/event/christmas-eve/
CATEGORIES:US Holiday
END:VEVENT
BEGIN:VEVENT
DTSTART;VALUE=DATE:20251225
DTEND;VALUE=DATE:20251227
DTSTAMP:20260419T135151
CREATED:20250701T171835Z
LAST-MODIFIED:20250701T171835Z
UID:10000004-1766620800-1766793599@ohs.staging.hcde.org
SUMMARY:Christmas Day
DESCRIPTION:
URL:https://ohs.staging.hcde.org/event/christmas-day/
CATEGORIES:US Holiday
END:VEVENT
BEGIN:VEVENT
DTSTART;VALUE=DATE:20251231
DTEND;VALUE=DATE:20260102
DTSTAMP:20260419T135151
CREATED:20250701T171925Z
LAST-MODIFIED:20250701T171925Z
UID:10000024-1767139200-1767311999@ohs.staging.hcde.org
SUMMARY:New Year's Eve
DESCRIPTION:
URL:https://ohs.staging.hcde.org/event/new-years-eve/
CATEGORIES:US Holiday
END:VEVENT
END:VCALENDAR